BEGIN:VCALENDAR
VERSION:2.0
PRODID:-//Tukios.com/
BEGIN:VEVENT
UID:c71a2d7d-1162-4f51-8172-1b2904623b4a@www.hollandlyons.com
DTSTAMP:20260420T085229Z
DTSTART:20260426T180000Z
DTEND:20260426T190000Z
SUMMARY:Memorial Service
DESCRIPTION:
URL:https://www.hollandlyons.com/obituaries/jonathan-hansen-perry
LOCATION: 111 North Balsam Street  Ridgecrest CA 93555
GEO:35.6230266;-117.6714894
END:VEVENT
END:VCALENDAR